BEGIN:VCALENDAR
VERSION:2.0
PRODID:-//Seil Island Community Hall - ECPv6.15.17.1//NONSGML v1.0//EN
CALSCALE:GREGORIAN
METHOD:PUBLISH
X-WR-CALNAME:Seil Island Community Hall
X-ORIGINAL-URL:https://seilhall.org.uk
X-WR-CALDESC:Events for Seil Island Community Hall
REFRESH-INTERVAL;VALUE=DURATION:PT1H
X-Robots-Tag:noindex
X-PUBLISHED-TTL:PT1H
BEGIN:VTIMEZONE
TZID:Europe/London
BEGIN:DAYLIGHT
TZOFFSETFROM:+0000
TZOFFSETTO:+0100
TZNAME:BST
DTSTART:20300331T010000
END:DAYLIGHT
BEGIN:STANDARD
TZOFFSETFROM:+0100
TZOFFSETTO:+0000
TZNAME:GMT
DTSTART:20301027T010000
END:STANDARD
BEGIN:DAYLIGHT
TZOFFSETFROM:+0000
TZOFFSETTO:+0100
TZNAME:BST
DTSTART:20310330T010000
END:DAYLIGHT
BEGIN:STANDARD
TZOFFSETFROM:+0100
TZOFFSETTO:+0000
TZNAME:GMT
DTSTART:20311026T010000
END:STANDARD
BEGIN:DAYLIGHT
TZOFFSETFROM:+0000
TZOFFSETTO:+0100
TZNAME:BST
DTSTART:20320328T010000
END:DAYLIGHT
BEGIN:STANDARD
TZOFFSETFROM:+0100
TZOFFSETTO:+0000
TZNAME:GMT
DTSTART:20321031T010000
END:STANDARD
END:VTIMEZONE
BEGIN:VEVENT
DTSTART;TZID=Europe/London:20310311T183000
DTEND;TZID=Europe/London:20310311T203000
DTSTAMP:20260422T021145
CREATED:20260320T214422Z
LAST-MODIFIED:20260320T214422Z
UID:10000406-1931020200-1931027400@seilhall.org.uk
SUMMARY:Seil Crafting Group
DESCRIPTION:If you’d like to craft in company with neighbours and a cuppa\, come along to the Seil crafting group. \n\n\n\n\nWe meet every other Tuesday evening in the Small Hall\, all year around. Bring your own project\, whatever it might be – we’ve had mending\, embroidery\, cross-stitch\, needle-felting\, sewing\, crochet\, sketching\, weaving\, hat-making\, knitting\, calligraphy\, model-making\, painting and more. \nBring your own project\, though occasionally people offer a workshop or chance to learn something new. Small donation invited to cover the rent and heating. Find us on Facebook or contact Annie Lawson on aelawson1969@gmail.com for more details or to join the WhatApp group.
URL:https://seilhall.org.uk/event/seil-crafting-group/2031-03-11/
LOCATION:Seil Island Hall\, Seil Hall - Main Hall\, Ellenabeich\, Isle of Seil\, PA34 4RQ\, United Kingdom
CATEGORIES:Crafting group
END:VEVENT
BEGIN:VEVENT
DTSTART;TZID=Europe/London:20310312T141500
DTEND;TZID=Europe/London:20310312T161500
DTSTAMP:20260422T021145
CREATED:20260320T215711Z
LAST-MODIFIED:20260320T215711Z
UID:10001189-1931091300-1931098500@seilhall.org.uk
SUMMARY:Pickleball
DESCRIPTION:We have two sessions per week. One is on Monday 18:30-21:00\, the other Wednesday 14:15-16:15. \nAll players are welcome at any time during the session. Cost is £2 /person if you have your own bat and £3 if you use one of ours. \nChildren under 16 must come accompanied by an adult. \nOur pickleball kit can also be rented if you want to practise or play a game with family and friends. Just contact the bookings secretary with any questions.
URL:https://seilhall.org.uk/event/pickleball-2/2031-03-12/
LOCATION:Seil Island Hall\, Seil Hall - Main Hall\, Ellenabeich\, Isle of Seil\, PA34 4RQ\, United Kingdom
CATEGORIES:Pickleball
END:VEVENT
BEGIN:VEVENT
DTSTART;TZID=Europe/London:20310317T140000
DTEND;TZID=Europe/London:20310317T153000
DTSTAMP:20260422T021145
CREATED:20260320T213929Z
LAST-MODIFIED:20260320T213929Z
UID:10000276-1931522400-1931527800@seilhall.org.uk
SUMMARY:Scottish Country Dancing
DESCRIPTION:Join us at 2 pm – 3.30 pm every Monday for Scottish Country Dancing in the main hall. \n\n \n\n\nAll abilities welcome
URL:https://seilhall.org.uk/event/scottish-country-dancing-2/2031-03-17/
LOCATION:Seil Island Hall\, Seil Hall - Main Hall\, Ellenabeich\, Isle of Seil\, PA34 4RQ\, United Kingdom
CATEGORIES:Scottish Country Dancing
END:VEVENT
BEGIN:VEVENT
DTSTART;TZID=Europe/London:20310317T183000
DTEND;TZID=Europe/London:20310317T200000
DTSTAMP:20260422T021145
CREATED:20260320T215517Z
LAST-MODIFIED:20260320T215802Z
UID:10000929-1931538600-1931544000@seilhall.org.uk
SUMMARY:Pickleball
DESCRIPTION:We have two sessions per week. One is on Monday 18:30-21:00\, the other Wednesday 14:15-16:15. \nAll players are welcome at any time during the session. Cost is £2 /person if you have your own bat and £3 if you use one of ours. \nChildren under 16 must come accompanied by an adult. \nOur pickleball kit can also be rented if you want to practise or play a game with family and friends. Just contact the bookings secretary with any questions.
URL:https://seilhall.org.uk/event/pickleball/2031-03-17/
LOCATION:Seil Island Hall\, Seil Hall - Main Hall\, Ellenabeich\, Isle of Seil\, PA34 4RQ\, United Kingdom
CATEGORIES:Pickleball
END:VEVENT
BEGIN:VEVENT
DTSTART;TZID=Europe/London:20310317T193000
DTEND;TZID=Europe/London:20310317T210000
DTSTAMP:20260422T021145
CREATED:20260320T215040Z
LAST-MODIFIED:20260320T215933Z
UID:10000667-1931542200-1931547600@seilhall.org.uk
SUMMARY:Slow session
DESCRIPTION:The slow session is every Monday 19:30-21:00 and is run to specifically practise traditional session music slowly. Anyone is welcome to suggest tunes that we can then practice. Once a month we run a singing session. Again\, no tuition as such\, just an opportunity to practise songs with accompaniment. \nMinimum ability grade 2/3. We welcome all instruments and all ages. Cost £2 to cover hall fees.
URL:https://seilhall.org.uk/event/slow-session/2031-03-17/
LOCATION:Small Hall\, Seil Island Hall\, Seil Hall\, Ellenabeich\, Isle of Seil\, PA34 4RQ\, United Kingdom
CATEGORIES:Slow session
END:VEVENT
BEGIN:VEVENT
DTSTART;TZID=Europe/London:20310319T141500
DTEND;TZID=Europe/London:20310319T161500
DTSTAMP:20260422T021145
CREATED:20260320T215711Z
LAST-MODIFIED:20260320T215711Z
UID:10001190-1931696100-1931703300@seilhall.org.uk
SUMMARY:Pickleball
DESCRIPTION:We have two sessions per week. One is on Monday 18:30-21:00\, the other Wednesday 14:15-16:15. \nAll players are welcome at any time during the session. Cost is £2 /person if you have your own bat and £3 if you use one of ours. \nChildren under 16 must come accompanied by an adult. \nOur pickleball kit can also be rented if you want to practise or play a game with family and friends. Just contact the bookings secretary with any questions.
URL:https://seilhall.org.uk/event/pickleball-2/2031-03-19/
LOCATION:Seil Island Hall\, Seil Hall - Main Hall\, Ellenabeich\, Isle of Seil\, PA34 4RQ\, United Kingdom
CATEGORIES:Pickleball
END:VEVENT
END:VCALENDAR