BEGIN:VCALENDAR
VERSION:2.0
PRODID:-//Seil Island Community Hall - ECPv6.15.17.1//NONSGML v1.0//EN
CALSCALE:GREGORIAN
METHOD:PUBLISH
X-WR-CALNAME:Seil Island Community Hall
X-ORIGINAL-URL:https://seilhall.org.uk
X-WR-CALDESC:Events for Seil Island Community Hall
REFRESH-INTERVAL;VALUE=DURATION:PT1H
X-Robots-Tag:noindex
X-PUBLISHED-TTL:PT1H
BEGIN:VTIMEZONE
TZID:Europe/London
BEGIN:DAYLIGHT
TZOFFSETFROM:+0000
TZOFFSETTO:+0100
TZNAME:BST
DTSTART:20290325T010000
END:DAYLIGHT
BEGIN:STANDARD
TZOFFSETFROM:+0100
TZOFFSETTO:+0000
TZNAME:GMT
DTSTART:20291028T010000
END:STANDARD
BEGIN:DAYLIGHT
TZOFFSETFROM:+0000
TZOFFSETTO:+0100
TZNAME:BST
DTSTART:20300331T010000
END:DAYLIGHT
BEGIN:STANDARD
TZOFFSETFROM:+0100
TZOFFSETTO:+0000
TZNAME:GMT
DTSTART:20301027T010000
END:STANDARD
BEGIN:DAYLIGHT
TZOFFSETFROM:+0000
TZOFFSETTO:+0100
TZNAME:BST
DTSTART:20310330T010000
END:DAYLIGHT
BEGIN:STANDARD
TZOFFSETFROM:+0100
TZOFFSETTO:+0000
TZNAME:GMT
DTSTART:20311026T010000
END:STANDARD
END:VTIMEZONE
BEGIN:VEVENT
DTSTART;TZID=Europe/London:20301014T193000
DTEND;TZID=Europe/London:20301014T210000
DTSTAMP:20260421T013224
CREATED:20260320T215040Z
LAST-MODIFIED:20260320T215933Z
UID:10000645-1918236600-1918242000@seilhall.org.uk
SUMMARY:Slow session
DESCRIPTION:The slow session is every Monday 19:30-21:00 and is run to specifically practise traditional session music slowly. Anyone is welcome to suggest tunes that we can then practice. Once a month we run a singing session. Again\, no tuition as such\, just an opportunity to practise songs with accompaniment. \nMinimum ability grade 2/3. We welcome all instruments and all ages. Cost £2 to cover hall fees.
URL:https://seilhall.org.uk/event/slow-session/2030-10-14/
LOCATION:Small Hall\, Seil Island Hall\, Seil Hall\, Ellenabeich\, Isle of Seil\, PA34 4RQ\, United Kingdom
CATEGORIES:Slow session
END:VEVENT
BEGIN:VEVENT
DTSTART;TZID=Europe/London:20301016T141500
DTEND;TZID=Europe/London:20301016T161500
DTSTAMP:20260421T013224
CREATED:20260320T215711Z
LAST-MODIFIED:20260320T215711Z
UID:10001168-1918390500-1918397700@seilhall.org.uk
SUMMARY:Pickleball
DESCRIPTION:We have two sessions per week. One is on Monday 18:30-21:00\, the other Wednesday 14:15-16:15. \nAll players are welcome at any time during the session. Cost is £2 /person if you have your own bat and £3 if you use one of ours. \nChildren under 16 must come accompanied by an adult. \nOur pickleball kit can also be rented if you want to practise or play a game with family and friends. Just contact the bookings secretary with any questions.
URL:https://seilhall.org.uk/event/pickleball-2/2030-10-16/
LOCATION:Seil Island Hall\, Seil Hall - Main Hall\, Ellenabeich\, Isle of Seil\, PA34 4RQ\, United Kingdom
CATEGORIES:Pickleball
END:VEVENT
BEGIN:VEVENT
DTSTART;TZID=Europe/London:20301021T140000
DTEND;TZID=Europe/London:20301021T153000
DTSTAMP:20260421T013224
CREATED:20260320T213929Z
LAST-MODIFIED:20260320T213929Z
UID:10000255-1918821600-1918827000@seilhall.org.uk
SUMMARY:Scottish Country Dancing
DESCRIPTION:Join us at 2 pm – 3.30 pm every Monday for Scottish Country Dancing in the main hall. \n\n \n\n\nAll abilities welcome
URL:https://seilhall.org.uk/event/scottish-country-dancing-2/2030-10-21/
LOCATION:Seil Island Hall\, Seil Hall - Main Hall\, Ellenabeich\, Isle of Seil\, PA34 4RQ\, United Kingdom
CATEGORIES:Scottish Country Dancing
END:VEVENT
BEGIN:VEVENT
DTSTART;TZID=Europe/London:20301021T183000
DTEND;TZID=Europe/London:20301021T200000
DTSTAMP:20260421T013224
CREATED:20260320T215517Z
LAST-MODIFIED:20260320T215802Z
UID:10000908-1918837800-1918843200@seilhall.org.uk
SUMMARY:Pickleball
DESCRIPTION:We have two sessions per week. One is on Monday 18:30-21:00\, the other Wednesday 14:15-16:15. \nAll players are welcome at any time during the session. Cost is £2 /person if you have your own bat and £3 if you use one of ours. \nChildren under 16 must come accompanied by an adult. \nOur pickleball kit can also be rented if you want to practise or play a game with family and friends. Just contact the bookings secretary with any questions.
URL:https://seilhall.org.uk/event/pickleball/2030-10-21/
LOCATION:Seil Island Hall\, Seil Hall - Main Hall\, Ellenabeich\, Isle of Seil\, PA34 4RQ\, United Kingdom
CATEGORIES:Pickleball
END:VEVENT
BEGIN:VEVENT
DTSTART;TZID=Europe/London:20301021T193000
DTEND;TZID=Europe/London:20301021T210000
DTSTAMP:20260421T013224
CREATED:20260320T215040Z
LAST-MODIFIED:20260320T215933Z
UID:10000646-1918841400-1918846800@seilhall.org.uk
SUMMARY:Slow session
DESCRIPTION:The slow session is every Monday 19:30-21:00 and is run to specifically practise traditional session music slowly. Anyone is welcome to suggest tunes that we can then practice. Once a month we run a singing session. Again\, no tuition as such\, just an opportunity to practise songs with accompaniment. \nMinimum ability grade 2/3. We welcome all instruments and all ages. Cost £2 to cover hall fees.
URL:https://seilhall.org.uk/event/slow-session/2030-10-21/
LOCATION:Small Hall\, Seil Island Hall\, Seil Hall\, Ellenabeich\, Isle of Seil\, PA34 4RQ\, United Kingdom
CATEGORIES:Slow session
END:VEVENT
BEGIN:VEVENT
DTSTART;TZID=Europe/London:20301022T183000
DTEND;TZID=Europe/London:20301022T203000
DTSTAMP:20260421T013224
CREATED:20260320T214422Z
LAST-MODIFIED:20260320T214422Z
UID:10000396-1918924200-1918931400@seilhall.org.uk
SUMMARY:Seil Crafting Group
DESCRIPTION:If you’d like to craft in company with neighbours and a cuppa\, come along to the Seil crafting group. \n\n\n\n\nWe meet every other Tuesday evening in the Small Hall\, all year around. Bring your own project\, whatever it might be – we’ve had mending\, embroidery\, cross-stitch\, needle-felting\, sewing\, crochet\, sketching\, weaving\, hat-making\, knitting\, calligraphy\, model-making\, painting and more. \nBring your own project\, though occasionally people offer a workshop or chance to learn something new. Small donation invited to cover the rent and heating. Find us on Facebook or contact Annie Lawson on aelawson1969@gmail.com for more details or to join the WhatApp group.
URL:https://seilhall.org.uk/event/seil-crafting-group/2030-10-22/
LOCATION:Seil Island Hall\, Seil Hall - Main Hall\, Ellenabeich\, Isle of Seil\, PA34 4RQ\, United Kingdom
CATEGORIES:Crafting group
END:VEVENT
BEGIN:VEVENT
DTSTART;TZID=Europe/London:20301023T141500
DTEND;TZID=Europe/London:20301023T161500
DTSTAMP:20260421T013224
CREATED:20260320T215711Z
LAST-MODIFIED:20260320T215711Z
UID:10001169-1918995300-1919002500@seilhall.org.uk
SUMMARY:Pickleball
DESCRIPTION:We have two sessions per week. One is on Monday 18:30-21:00\, the other Wednesday 14:15-16:15. \nAll players are welcome at any time during the session. Cost is £2 /person if you have your own bat and £3 if you use one of ours. \nChildren under 16 must come accompanied by an adult. \nOur pickleball kit can also be rented if you want to practise or play a game with family and friends. Just contact the bookings secretary with any questions.
URL:https://seilhall.org.uk/event/pickleball-2/2030-10-23/
LOCATION:Seil Island Hall\, Seil Hall - Main Hall\, Ellenabeich\, Isle of Seil\, PA34 4RQ\, United Kingdom
CATEGORIES:Pickleball
END:VEVENT
BEGIN:VEVENT
DTSTART;TZID=Europe/London:20301028T140000
DTEND;TZID=Europe/London:20301028T153000
DTSTAMP:20260421T013224
CREATED:20260320T213929Z
LAST-MODIFIED:20260320T213929Z
UID:10000256-1919426400-1919431800@seilhall.org.uk
SUMMARY:Scottish Country Dancing
DESCRIPTION:Join us at 2 pm – 3.30 pm every Monday for Scottish Country Dancing in the main hall. \n\n \n\n\nAll abilities welcome
URL:https://seilhall.org.uk/event/scottish-country-dancing-2/2030-10-28/
LOCATION:Seil Island Hall\, Seil Hall - Main Hall\, Ellenabeich\, Isle of Seil\, PA34 4RQ\, United Kingdom
CATEGORIES:Scottish Country Dancing
END:VEVENT
BEGIN:VEVENT
DTSTART;TZID=Europe/London:20301028T183000
DTEND;TZID=Europe/London:20301028T200000
DTSTAMP:20260421T013224
CREATED:20260320T215517Z
LAST-MODIFIED:20260320T215802Z
UID:10000909-1919442600-1919448000@seilhall.org.uk
SUMMARY:Pickleball
DESCRIPTION:We have two sessions per week. One is on Monday 18:30-21:00\, the other Wednesday 14:15-16:15. \nAll players are welcome at any time during the session. Cost is £2 /person if you have your own bat and £3 if you use one of ours. \nChildren under 16 must come accompanied by an adult. \nOur pickleball kit can also be rented if you want to practise or play a game with family and friends. Just contact the bookings secretary with any questions.
URL:https://seilhall.org.uk/event/pickleball/2030-10-28/
LOCATION:Seil Island Hall\, Seil Hall - Main Hall\, Ellenabeich\, Isle of Seil\, PA34 4RQ\, United Kingdom
CATEGORIES:Pickleball
END:VEVENT
BEGIN:VEVENT
DTSTART;TZID=Europe/London:20301028T193000
DTEND;TZID=Europe/London:20301028T210000
DTSTAMP:20260421T013224
CREATED:20260320T215040Z
LAST-MODIFIED:20260320T215933Z
UID:10000647-1919446200-1919451600@seilhall.org.uk
SUMMARY:Slow session
DESCRIPTION:The slow session is every Monday 19:30-21:00 and is run to specifically practise traditional session music slowly. Anyone is welcome to suggest tunes that we can then practice. Once a month we run a singing session. Again\, no tuition as such\, just an opportunity to practise songs with accompaniment. \nMinimum ability grade 2/3. We welcome all instruments and all ages. Cost £2 to cover hall fees.
URL:https://seilhall.org.uk/event/slow-session/2030-10-28/
LOCATION:Small Hall\, Seil Island Hall\, Seil Hall\, Ellenabeich\, Isle of Seil\, PA34 4RQ\, United Kingdom
CATEGORIES:Slow session
END:VEVENT
BEGIN:VEVENT
DTSTART;TZID=Europe/London:20301030T141500
DTEND;TZID=Europe/London:20301030T161500
DTSTAMP:20260421T013224
CREATED:20260320T215711Z
LAST-MODIFIED:20260320T215711Z
UID:10001170-1919600100-1919607300@seilhall.org.uk
SUMMARY:Pickleball
DESCRIPTION:We have two sessions per week. One is on Monday 18:30-21:00\, the other Wednesday 14:15-16:15. \nAll players are welcome at any time during the session. Cost is £2 /person if you have your own bat and £3 if you use one of ours. \nChildren under 16 must come accompanied by an adult. \nOur pickleball kit can also be rented if you want to practise or play a game with family and friends. Just contact the bookings secretary with any questions.
URL:https://seilhall.org.uk/event/pickleball-2/2030-10-30/
LOCATION:Seil Island Hall\, Seil Hall - Main Hall\, Ellenabeich\, Isle of Seil\, PA34 4RQ\, United Kingdom
CATEGORIES:Pickleball
END:VEVENT
BEGIN:VEVENT
DTSTART;TZID=Europe/London:20301104T140000
DTEND;TZID=Europe/London:20301104T153000
DTSTAMP:20260421T013224
CREATED:20260320T213929Z
LAST-MODIFIED:20260320T213929Z
UID:10000257-1920031200-1920036600@seilhall.org.uk
SUMMARY:Scottish Country Dancing
DESCRIPTION:Join us at 2 pm – 3.30 pm every Monday for Scottish Country Dancing in the main hall. \n\n \n\n\nAll abilities welcome
URL:https://seilhall.org.uk/event/scottish-country-dancing-2/2030-11-04/
LOCATION:Seil Island Hall\, Seil Hall - Main Hall\, Ellenabeich\, Isle of Seil\, PA34 4RQ\, United Kingdom
CATEGORIES:Scottish Country Dancing
END:VEVENT
BEGIN:VEVENT
DTSTART;TZID=Europe/London:20301104T183000
DTEND;TZID=Europe/London:20301104T200000
DTSTAMP:20260421T013224
CREATED:20260320T215517Z
LAST-MODIFIED:20260320T215802Z
UID:10000910-1920047400-1920052800@seilhall.org.uk
SUMMARY:Pickleball
DESCRIPTION:We have two sessions per week. One is on Monday 18:30-21:00\, the other Wednesday 14:15-16:15. \nAll players are welcome at any time during the session. Cost is £2 /person if you have your own bat and £3 if you use one of ours. \nChildren under 16 must come accompanied by an adult. \nOur pickleball kit can also be rented if you want to practise or play a game with family and friends. Just contact the bookings secretary with any questions.
URL:https://seilhall.org.uk/event/pickleball/2030-11-04/
LOCATION:Seil Island Hall\, Seil Hall - Main Hall\, Ellenabeich\, Isle of Seil\, PA34 4RQ\, United Kingdom
CATEGORIES:Pickleball
END:VEVENT
BEGIN:VEVENT
DTSTART;TZID=Europe/London:20301104T193000
DTEND;TZID=Europe/London:20301104T210000
DTSTAMP:20260421T013224
CREATED:20260320T215040Z
LAST-MODIFIED:20260320T215933Z
UID:10000648-1920051000-1920056400@seilhall.org.uk
SUMMARY:Slow session
DESCRIPTION:The slow session is every Monday 19:30-21:00 and is run to specifically practise traditional session music slowly. Anyone is welcome to suggest tunes that we can then practice. Once a month we run a singing session. Again\, no tuition as such\, just an opportunity to practise songs with accompaniment. \nMinimum ability grade 2/3. We welcome all instruments and all ages. Cost £2 to cover hall fees.
URL:https://seilhall.org.uk/event/slow-session/2030-11-04/
LOCATION:Small Hall\, Seil Island Hall\, Seil Hall\, Ellenabeich\, Isle of Seil\, PA34 4RQ\, United Kingdom
CATEGORIES:Slow session
END:VEVENT
BEGIN:VEVENT
DTSTART;TZID=Europe/London:20301105T183000
DTEND;TZID=Europe/London:20301105T203000
DTSTAMP:20260421T013224
CREATED:20260320T214422Z
LAST-MODIFIED:20260320T214422Z
UID:10000397-1920133800-1920141000@seilhall.org.uk
SUMMARY:Seil Crafting Group
DESCRIPTION:If you’d like to craft in company with neighbours and a cuppa\, come along to the Seil crafting group. \n\n\n\n\nWe meet every other Tuesday evening in the Small Hall\, all year around. Bring your own project\, whatever it might be – we’ve had mending\, embroidery\, cross-stitch\, needle-felting\, sewing\, crochet\, sketching\, weaving\, hat-making\, knitting\, calligraphy\, model-making\, painting and more. \nBring your own project\, though occasionally people offer a workshop or chance to learn something new. Small donation invited to cover the rent and heating. Find us on Facebook or contact Annie Lawson on aelawson1969@gmail.com for more details or to join the WhatApp group.
URL:https://seilhall.org.uk/event/seil-crafting-group/2030-11-05/
LOCATION:Seil Island Hall\, Seil Hall - Main Hall\, Ellenabeich\, Isle of Seil\, PA34 4RQ\, United Kingdom
CATEGORIES:Crafting group
END:VEVENT
BEGIN:VEVENT
DTSTART;TZID=Europe/London:20301106T141500
DTEND;TZID=Europe/London:20301106T161500
DTSTAMP:20260421T013224
CREATED:20260320T215711Z
LAST-MODIFIED:20260320T215711Z
UID:10001171-1920204900-1920212100@seilhall.org.uk
SUMMARY:Pickleball
DESCRIPTION:We have two sessions per week. One is on Monday 18:30-21:00\, the other Wednesday 14:15-16:15. \nAll players are welcome at any time during the session. Cost is £2 /person if you have your own bat and £3 if you use one of ours. \nChildren under 16 must come accompanied by an adult. \nOur pickleball kit can also be rented if you want to practise or play a game with family and friends. Just contact the bookings secretary with any questions.
URL:https://seilhall.org.uk/event/pickleball-2/2030-11-06/
LOCATION:Seil Island Hall\, Seil Hall - Main Hall\, Ellenabeich\, Isle of Seil\, PA34 4RQ\, United Kingdom
CATEGORIES:Pickleball
END:VEVENT
BEGIN:VEVENT
DTSTART;TZID=Europe/London:20301111T140000
DTEND;TZID=Europe/London:20301111T153000
DTSTAMP:20260421T013224
CREATED:20260320T213929Z
LAST-MODIFIED:20260320T213929Z
UID:10000258-1920636000-1920641400@seilhall.org.uk
SUMMARY:Scottish Country Dancing
DESCRIPTION:Join us at 2 pm – 3.30 pm every Monday for Scottish Country Dancing in the main hall. \n\n \n\n\nAll abilities welcome
URL:https://seilhall.org.uk/event/scottish-country-dancing-2/2030-11-11/
LOCATION:Seil Island Hall\, Seil Hall - Main Hall\, Ellenabeich\, Isle of Seil\, PA34 4RQ\, United Kingdom
CATEGORIES:Scottish Country Dancing
END:VEVENT
BEGIN:VEVENT
DTSTART;TZID=Europe/London:20301111T183000
DTEND;TZID=Europe/London:20301111T200000
DTSTAMP:20260421T013224
CREATED:20260320T215517Z
LAST-MODIFIED:20260320T215802Z
UID:10000911-1920652200-1920657600@seilhall.org.uk
SUMMARY:Pickleball
DESCRIPTION:We have two sessions per week. One is on Monday 18:30-21:00\, the other Wednesday 14:15-16:15. \nAll players are welcome at any time during the session. Cost is £2 /person if you have your own bat and £3 if you use one of ours. \nChildren under 16 must come accompanied by an adult. \nOur pickleball kit can also be rented if you want to practise or play a game with family and friends. Just contact the bookings secretary with any questions.
URL:https://seilhall.org.uk/event/pickleball/2030-11-11/
LOCATION:Seil Island Hall\, Seil Hall - Main Hall\, Ellenabeich\, Isle of Seil\, PA34 4RQ\, United Kingdom
CATEGORIES:Pickleball
END:VEVENT
BEGIN:VEVENT
DTSTART;TZID=Europe/London:20301111T193000
DTEND;TZID=Europe/London:20301111T210000
DTSTAMP:20260421T013224
CREATED:20260320T215040Z
LAST-MODIFIED:20260320T215933Z
UID:10000649-1920655800-1920661200@seilhall.org.uk
SUMMARY:Slow session
DESCRIPTION:The slow session is every Monday 19:30-21:00 and is run to specifically practise traditional session music slowly. Anyone is welcome to suggest tunes that we can then practice. Once a month we run a singing session. Again\, no tuition as such\, just an opportunity to practise songs with accompaniment. \nMinimum ability grade 2/3. We welcome all instruments and all ages. Cost £2 to cover hall fees.
URL:https://seilhall.org.uk/event/slow-session/2030-11-11/
LOCATION:Small Hall\, Seil Island Hall\, Seil Hall\, Ellenabeich\, Isle of Seil\, PA34 4RQ\, United Kingdom
CATEGORIES:Slow session
END:VEVENT
BEGIN:VEVENT
DTSTART;TZID=Europe/London:20301113T141500
DTEND;TZID=Europe/London:20301113T161500
DTSTAMP:20260421T013224
CREATED:20260320T215711Z
LAST-MODIFIED:20260320T215711Z
UID:10001172-1920809700-1920816900@seilhall.org.uk
SUMMARY:Pickleball
DESCRIPTION:We have two sessions per week. One is on Monday 18:30-21:00\, the other Wednesday 14:15-16:15. \nAll players are welcome at any time during the session. Cost is £2 /person if you have your own bat and £3 if you use one of ours. \nChildren under 16 must come accompanied by an adult. \nOur pickleball kit can also be rented if you want to practise or play a game with family and friends. Just contact the bookings secretary with any questions.
URL:https://seilhall.org.uk/event/pickleball-2/2030-11-13/
LOCATION:Seil Island Hall\, Seil Hall - Main Hall\, Ellenabeich\, Isle of Seil\, PA34 4RQ\, United Kingdom
CATEGORIES:Pickleball
END:VEVENT
BEGIN:VEVENT
DTSTART;TZID=Europe/London:20301118T140000
DTEND;TZID=Europe/London:20301118T153000
DTSTAMP:20260421T013224
CREATED:20260320T213929Z
LAST-MODIFIED:20260320T213929Z
UID:10000259-1921240800-1921246200@seilhall.org.uk
SUMMARY:Scottish Country Dancing
DESCRIPTION:Join us at 2 pm – 3.30 pm every Monday for Scottish Country Dancing in the main hall. \n\n \n\n\nAll abilities welcome
URL:https://seilhall.org.uk/event/scottish-country-dancing-2/2030-11-18/
LOCATION:Seil Island Hall\, Seil Hall - Main Hall\, Ellenabeich\, Isle of Seil\, PA34 4RQ\, United Kingdom
CATEGORIES:Scottish Country Dancing
END:VEVENT
BEGIN:VEVENT
DTSTART;TZID=Europe/London:20301118T183000
DTEND;TZID=Europe/London:20301118T200000
DTSTAMP:20260421T013224
CREATED:20260320T215517Z
LAST-MODIFIED:20260320T215802Z
UID:10000912-1921257000-1921262400@seilhall.org.uk
SUMMARY:Pickleball
DESCRIPTION:We have two sessions per week. One is on Monday 18:30-21:00\, the other Wednesday 14:15-16:15. \nAll players are welcome at any time during the session. Cost is £2 /person if you have your own bat and £3 if you use one of ours. \nChildren under 16 must come accompanied by an adult. \nOur pickleball kit can also be rented if you want to practise or play a game with family and friends. Just contact the bookings secretary with any questions.
URL:https://seilhall.org.uk/event/pickleball/2030-11-18/
LOCATION:Seil Island Hall\, Seil Hall - Main Hall\, Ellenabeich\, Isle of Seil\, PA34 4RQ\, United Kingdom
CATEGORIES:Pickleball
END:VEVENT
BEGIN:VEVENT
DTSTART;TZID=Europe/London:20301118T193000
DTEND;TZID=Europe/London:20301118T210000
DTSTAMP:20260421T013224
CREATED:20260320T215040Z
LAST-MODIFIED:20260320T215933Z
UID:10000650-1921260600-1921266000@seilhall.org.uk
SUMMARY:Slow session
DESCRIPTION:The slow session is every Monday 19:30-21:00 and is run to specifically practise traditional session music slowly. Anyone is welcome to suggest tunes that we can then practice. Once a month we run a singing session. Again\, no tuition as such\, just an opportunity to practise songs with accompaniment. \nMinimum ability grade 2/3. We welcome all instruments and all ages. Cost £2 to cover hall fees.
URL:https://seilhall.org.uk/event/slow-session/2030-11-18/
LOCATION:Small Hall\, Seil Island Hall\, Seil Hall\, Ellenabeich\, Isle of Seil\, PA34 4RQ\, United Kingdom
CATEGORIES:Slow session
END:VEVENT
BEGIN:VEVENT
DTSTART;TZID=Europe/London:20301119T183000
DTEND;TZID=Europe/London:20301119T203000
DTSTAMP:20260421T013224
CREATED:20260320T214422Z
LAST-MODIFIED:20260320T214422Z
UID:10000398-1921343400-1921350600@seilhall.org.uk
SUMMARY:Seil Crafting Group
DESCRIPTION:If you’d like to craft in company with neighbours and a cuppa\, come along to the Seil crafting group. \n\n\n\n\nWe meet every other Tuesday evening in the Small Hall\, all year around. Bring your own project\, whatever it might be – we’ve had mending\, embroidery\, cross-stitch\, needle-felting\, sewing\, crochet\, sketching\, weaving\, hat-making\, knitting\, calligraphy\, model-making\, painting and more. \nBring your own project\, though occasionally people offer a workshop or chance to learn something new. Small donation invited to cover the rent and heating. Find us on Facebook or contact Annie Lawson on aelawson1969@gmail.com for more details or to join the WhatApp group.
URL:https://seilhall.org.uk/event/seil-crafting-group/2030-11-19/
LOCATION:Seil Island Hall\, Seil Hall - Main Hall\, Ellenabeich\, Isle of Seil\, PA34 4RQ\, United Kingdom
CATEGORIES:Crafting group
END:VEVENT
BEGIN:VEVENT
DTSTART;TZID=Europe/London:20301120T141500
DTEND;TZID=Europe/London:20301120T161500
DTSTAMP:20260421T013224
CREATED:20260320T215711Z
LAST-MODIFIED:20260320T215711Z
UID:10001173-1921414500-1921421700@seilhall.org.uk
SUMMARY:Pickleball
DESCRIPTION:We have two sessions per week. One is on Monday 18:30-21:00\, the other Wednesday 14:15-16:15. \nAll players are welcome at any time during the session. Cost is £2 /person if you have your own bat and £3 if you use one of ours. \nChildren under 16 must come accompanied by an adult. \nOur pickleball kit can also be rented if you want to practise or play a game with family and friends. Just contact the bookings secretary with any questions.
URL:https://seilhall.org.uk/event/pickleball-2/2030-11-20/
LOCATION:Seil Island Hall\, Seil Hall - Main Hall\, Ellenabeich\, Isle of Seil\, PA34 4RQ\, United Kingdom
CATEGORIES:Pickleball
END:VEVENT
BEGIN:VEVENT
DTSTART;TZID=Europe/London:20301125T140000
DTEND;TZID=Europe/London:20301125T153000
DTSTAMP:20260421T013224
CREATED:20260320T213929Z
LAST-MODIFIED:20260320T213929Z
UID:10000260-1921845600-1921851000@seilhall.org.uk
SUMMARY:Scottish Country Dancing
DESCRIPTION:Join us at 2 pm – 3.30 pm every Monday for Scottish Country Dancing in the main hall. \n\n \n\n\nAll abilities welcome
URL:https://seilhall.org.uk/event/scottish-country-dancing-2/2030-11-25/
LOCATION:Seil Island Hall\, Seil Hall - Main Hall\, Ellenabeich\, Isle of Seil\, PA34 4RQ\, United Kingdom
CATEGORIES:Scottish Country Dancing
END:VEVENT
BEGIN:VEVENT
DTSTART;TZID=Europe/London:20301125T183000
DTEND;TZID=Europe/London:20301125T200000
DTSTAMP:20260421T013224
CREATED:20260320T215517Z
LAST-MODIFIED:20260320T215802Z
UID:10000913-1921861800-1921867200@seilhall.org.uk
SUMMARY:Pickleball
DESCRIPTION:We have two sessions per week. One is on Monday 18:30-21:00\, the other Wednesday 14:15-16:15. \nAll players are welcome at any time during the session. Cost is £2 /person if you have your own bat and £3 if you use one of ours. \nChildren under 16 must come accompanied by an adult. \nOur pickleball kit can also be rented if you want to practise or play a game with family and friends. Just contact the bookings secretary with any questions.
URL:https://seilhall.org.uk/event/pickleball/2030-11-25/
LOCATION:Seil Island Hall\, Seil Hall - Main Hall\, Ellenabeich\, Isle of Seil\, PA34 4RQ\, United Kingdom
CATEGORIES:Pickleball
END:VEVENT
BEGIN:VEVENT
DTSTART;TZID=Europe/London:20301125T193000
DTEND;TZID=Europe/London:20301125T210000
DTSTAMP:20260421T013224
CREATED:20260320T215040Z
LAST-MODIFIED:20260320T215933Z
UID:10000651-1921865400-1921870800@seilhall.org.uk
SUMMARY:Slow session
DESCRIPTION:The slow session is every Monday 19:30-21:00 and is run to specifically practise traditional session music slowly. Anyone is welcome to suggest tunes that we can then practice. Once a month we run a singing session. Again\, no tuition as such\, just an opportunity to practise songs with accompaniment. \nMinimum ability grade 2/3. We welcome all instruments and all ages. Cost £2 to cover hall fees.
URL:https://seilhall.org.uk/event/slow-session/2030-11-25/
LOCATION:Small Hall\, Seil Island Hall\, Seil Hall\, Ellenabeich\, Isle of Seil\, PA34 4RQ\, United Kingdom
CATEGORIES:Slow session
END:VEVENT
BEGIN:VEVENT
DTSTART;TZID=Europe/London:20301127T141500
DTEND;TZID=Europe/London:20301127T161500
DTSTAMP:20260421T013224
CREATED:20260320T215711Z
LAST-MODIFIED:20260320T215711Z
UID:10001174-1922019300-1922026500@seilhall.org.uk
SUMMARY:Pickleball
DESCRIPTION:We have two sessions per week. One is on Monday 18:30-21:00\, the other Wednesday 14:15-16:15. \nAll players are welcome at any time during the session. Cost is £2 /person if you have your own bat and £3 if you use one of ours. \nChildren under 16 must come accompanied by an adult. \nOur pickleball kit can also be rented if you want to practise or play a game with family and friends. Just contact the bookings secretary with any questions.
URL:https://seilhall.org.uk/event/pickleball-2/2030-11-27/
LOCATION:Seil Island Hall\, Seil Hall - Main Hall\, Ellenabeich\, Isle of Seil\, PA34 4RQ\, United Kingdom
CATEGORIES:Pickleball
END:VEVENT
BEGIN:VEVENT
DTSTART;TZID=Europe/London:20301202T140000
DTEND;TZID=Europe/London:20301202T153000
DTSTAMP:20260421T013224
CREATED:20260320T213929Z
LAST-MODIFIED:20260320T213929Z
UID:10000261-1922450400-1922455800@seilhall.org.uk
SUMMARY:Scottish Country Dancing
DESCRIPTION:Join us at 2 pm – 3.30 pm every Monday for Scottish Country Dancing in the main hall. \n\n \n\n\nAll abilities welcome
URL:https://seilhall.org.uk/event/scottish-country-dancing-2/2030-12-02/
LOCATION:Seil Island Hall\, Seil Hall - Main Hall\, Ellenabeich\, Isle of Seil\, PA34 4RQ\, United Kingdom
CATEGORIES:Scottish Country Dancing
END:VEVENT
END:VCALENDAR