BEGIN:VCALENDAR
VERSION:2.0
PRODID:-//Seil Island Community Hall - ECPv6.15.17.1//NONSGML v1.0//EN
CALSCALE:GREGORIAN
METHOD:PUBLISH
X-ORIGINAL-URL:https://seilhall.org.uk
X-WR-CALDESC:Events for Seil Island Community Hall
REFRESH-INTERVAL;VALUE=DURATION:PT1H
X-Robots-Tag:noindex
X-PUBLISHED-TTL:PT1H
BEGIN:VTIMEZONE
TZID:Europe/London
BEGIN:DAYLIGHT
TZOFFSETFROM:+0000
TZOFFSETTO:+0100
TZNAME:BST
DTSTART:20290325T010000
END:DAYLIGHT
BEGIN:STANDARD
TZOFFSETFROM:+0100
TZOFFSETTO:+0000
TZNAME:GMT
DTSTART:20291028T010000
END:STANDARD
BEGIN:DAYLIGHT
TZOFFSETFROM:+0000
TZOFFSETTO:+0100
TZNAME:BST
DTSTART:20300331T010000
END:DAYLIGHT
BEGIN:STANDARD
TZOFFSETFROM:+0100
TZOFFSETTO:+0000
TZNAME:GMT
DTSTART:20301027T010000
END:STANDARD
BEGIN:DAYLIGHT
TZOFFSETFROM:+0000
TZOFFSETTO:+0100
TZNAME:BST
DTSTART:20310330T010000
END:DAYLIGHT
BEGIN:STANDARD
TZOFFSETFROM:+0100
TZOFFSETTO:+0000
TZNAME:GMT
DTSTART:20311026T010000
END:STANDARD
BEGIN:DAYLIGHT
TZOFFSETFROM:+0000
TZOFFSETTO:+0100
TZNAME:BST
DTSTART:20320328T010000
END:DAYLIGHT
BEGIN:STANDARD
TZOFFSETFROM:+0100
TZOFFSETTO:+0000
TZNAME:GMT
DTSTART:20321031T010000
END:STANDARD
END:VTIMEZONE
BEGIN:VEVENT
DTSTART;TZID=Europe/London:20301120T141500
DTEND;TZID=Europe/London:20301120T161500
DTSTAMP:20260421T052920
CREATED:20260320T215711Z
LAST-MODIFIED:20260320T215711Z
UID:10001173-1921414500-1921421700@seilhall.org.uk
SUMMARY:Pickleball
DESCRIPTION:We have two sessions per week. One is on Monday 18:30-21:00\, the other Wednesday 14:15-16:15. \nAll players are welcome at any time during the session. Cost is £2 /person if you have your own bat and £3 if you use one of ours. \nChildren under 16 must come accompanied by an adult. \nOur pickleball kit can also be rented if you want to practise or play a game with family and friends. Just contact the bookings secretary with any questions.
URL:https://seilhall.org.uk/event/pickleball-2/2030-11-20/
LOCATION:Seil Island Hall\, Seil Hall - Main Hall\, Ellenabeich\, Isle of Seil\, PA34 4RQ\, United Kingdom
CATEGORIES:Pickleball
END:VEVENT
BEGIN:VEVENT
DTSTART;TZID=Europe/London:20301125T140000
DTEND;TZID=Europe/London:20301125T153000
DTSTAMP:20260421T052920
CREATED:20260320T213929Z
LAST-MODIFIED:20260320T213929Z
UID:10000260-1921845600-1921851000@seilhall.org.uk
SUMMARY:Scottish Country Dancing
DESCRIPTION:Join us at 2 pm – 3.30 pm every Monday for Scottish Country Dancing in the main hall. \n\n \n\n\nAll abilities welcome
URL:https://seilhall.org.uk/event/scottish-country-dancing-2/2030-11-25/
LOCATION:Seil Island Hall\, Seil Hall - Main Hall\, Ellenabeich\, Isle of Seil\, PA34 4RQ\, United Kingdom
CATEGORIES:Scottish Country Dancing
END:VEVENT
BEGIN:VEVENT
DTSTART;TZID=Europe/London:20301125T183000
DTEND;TZID=Europe/London:20301125T200000
DTSTAMP:20260421T052920
CREATED:20260320T215517Z
LAST-MODIFIED:20260320T215802Z
UID:10000913-1921861800-1921867200@seilhall.org.uk
SUMMARY:Pickleball
DESCRIPTION:We have two sessions per week. One is on Monday 18:30-21:00\, the other Wednesday 14:15-16:15. \nAll players are welcome at any time during the session. Cost is £2 /person if you have your own bat and £3 if you use one of ours. \nChildren under 16 must come accompanied by an adult. \nOur pickleball kit can also be rented if you want to practise or play a game with family and friends. Just contact the bookings secretary with any questions.
URL:https://seilhall.org.uk/event/pickleball/2030-11-25/
LOCATION:Seil Island Hall\, Seil Hall - Main Hall\, Ellenabeich\, Isle of Seil\, PA34 4RQ\, United Kingdom
CATEGORIES:Pickleball
END:VEVENT
BEGIN:VEVENT
DTSTART;TZID=Europe/London:20301125T193000
DTEND;TZID=Europe/London:20301125T210000
DTSTAMP:20260421T052920
CREATED:20260320T215040Z
LAST-MODIFIED:20260320T215933Z
UID:10000651-1921865400-1921870800@seilhall.org.uk
SUMMARY:Slow session
DESCRIPTION:The slow session is every Monday 19:30-21:00 and is run to specifically practise traditional session music slowly. Anyone is welcome to suggest tunes that we can then practice. Once a month we run a singing session. Again\, no tuition as such\, just an opportunity to practise songs with accompaniment. \nMinimum ability grade 2/3. We welcome all instruments and all ages. Cost £2 to cover hall fees.
URL:https://seilhall.org.uk/event/slow-session/2030-11-25/
LOCATION:Small Hall\, Seil Island Hall\, Seil Hall\, Ellenabeich\, Isle of Seil\, PA34 4RQ\, United Kingdom
CATEGORIES:Slow session
END:VEVENT
BEGIN:VEVENT
DTSTART;TZID=Europe/London:20301127T141500
DTEND;TZID=Europe/London:20301127T161500
DTSTAMP:20260421T052920
CREATED:20260320T215711Z
LAST-MODIFIED:20260320T215711Z
UID:10001174-1922019300-1922026500@seilhall.org.uk
SUMMARY:Pickleball
DESCRIPTION:We have two sessions per week. One is on Monday 18:30-21:00\, the other Wednesday 14:15-16:15. \nAll players are welcome at any time during the session. Cost is £2 /person if you have your own bat and £3 if you use one of ours. \nChildren under 16 must come accompanied by an adult. \nOur pickleball kit can also be rented if you want to practise or play a game with family and friends. Just contact the bookings secretary with any questions.
URL:https://seilhall.org.uk/event/pickleball-2/2030-11-27/
LOCATION:Seil Island Hall\, Seil Hall - Main Hall\, Ellenabeich\, Isle of Seil\, PA34 4RQ\, United Kingdom
CATEGORIES:Pickleball
END:VEVENT
BEGIN:VEVENT
DTSTART;TZID=Europe/London:20301202T140000
DTEND;TZID=Europe/London:20301202T153000
DTSTAMP:20260421T052920
CREATED:20260320T213929Z
LAST-MODIFIED:20260320T213929Z
UID:10000261-1922450400-1922455800@seilhall.org.uk
SUMMARY:Scottish Country Dancing
DESCRIPTION:Join us at 2 pm – 3.30 pm every Monday for Scottish Country Dancing in the main hall. \n\n \n\n\nAll abilities welcome
URL:https://seilhall.org.uk/event/scottish-country-dancing-2/2030-12-02/
LOCATION:Seil Island Hall\, Seil Hall - Main Hall\, Ellenabeich\, Isle of Seil\, PA34 4RQ\, United Kingdom
CATEGORIES:Scottish Country Dancing
END:VEVENT
BEGIN:VEVENT
DTSTART;TZID=Europe/London:20301202T183000
DTEND;TZID=Europe/London:20301202T200000
DTSTAMP:20260421T052920
CREATED:20260320T215517Z
LAST-MODIFIED:20260320T215802Z
UID:10000914-1922466600-1922472000@seilhall.org.uk
SUMMARY:Pickleball
DESCRIPTION:We have two sessions per week. One is on Monday 18:30-21:00\, the other Wednesday 14:15-16:15. \nAll players are welcome at any time during the session. Cost is £2 /person if you have your own bat and £3 if you use one of ours. \nChildren under 16 must come accompanied by an adult. \nOur pickleball kit can also be rented if you want to practise or play a game with family and friends. Just contact the bookings secretary with any questions.
URL:https://seilhall.org.uk/event/pickleball/2030-12-02/
LOCATION:Seil Island Hall\, Seil Hall - Main Hall\, Ellenabeich\, Isle of Seil\, PA34 4RQ\, United Kingdom
CATEGORIES:Pickleball
END:VEVENT
BEGIN:VEVENT
DTSTART;TZID=Europe/London:20301202T193000
DTEND;TZID=Europe/London:20301202T210000
DTSTAMP:20260421T052920
CREATED:20260320T215040Z
LAST-MODIFIED:20260320T215933Z
UID:10000652-1922470200-1922475600@seilhall.org.uk
SUMMARY:Slow session
DESCRIPTION:The slow session is every Monday 19:30-21:00 and is run to specifically practise traditional session music slowly. Anyone is welcome to suggest tunes that we can then practice. Once a month we run a singing session. Again\, no tuition as such\, just an opportunity to practise songs with accompaniment. \nMinimum ability grade 2/3. We welcome all instruments and all ages. Cost £2 to cover hall fees.
URL:https://seilhall.org.uk/event/slow-session/2030-12-02/
LOCATION:Small Hall\, Seil Island Hall\, Seil Hall\, Ellenabeich\, Isle of Seil\, PA34 4RQ\, United Kingdom
CATEGORIES:Slow session
END:VEVENT
BEGIN:VEVENT
DTSTART;TZID=Europe/London:20301203T183000
DTEND;TZID=Europe/London:20301203T203000
DTSTAMP:20260421T052920
CREATED:20260320T214422Z
LAST-MODIFIED:20260320T214422Z
UID:10000399-1922553000-1922560200@seilhall.org.uk
SUMMARY:Seil Crafting Group
DESCRIPTION:If you’d like to craft in company with neighbours and a cuppa\, come along to the Seil crafting group. \n\n\n\n\nWe meet every other Tuesday evening in the Small Hall\, all year around. Bring your own project\, whatever it might be – we’ve had mending\, embroidery\, cross-stitch\, needle-felting\, sewing\, crochet\, sketching\, weaving\, hat-making\, knitting\, calligraphy\, model-making\, painting and more. \nBring your own project\, though occasionally people offer a workshop or chance to learn something new. Small donation invited to cover the rent and heating. Find us on Facebook or contact Annie Lawson on aelawson1969@gmail.com for more details or to join the WhatApp group.
URL:https://seilhall.org.uk/event/seil-crafting-group/2030-12-03/
LOCATION:Seil Island Hall\, Seil Hall - Main Hall\, Ellenabeich\, Isle of Seil\, PA34 4RQ\, United Kingdom
CATEGORIES:Crafting group
END:VEVENT
BEGIN:VEVENT
DTSTART;TZID=Europe/London:20301204T141500
DTEND;TZID=Europe/London:20301204T161500
DTSTAMP:20260421T052920
CREATED:20260320T215711Z
LAST-MODIFIED:20260320T215711Z
UID:10001175-1922624100-1922631300@seilhall.org.uk
SUMMARY:Pickleball
DESCRIPTION:We have two sessions per week. One is on Monday 18:30-21:00\, the other Wednesday 14:15-16:15. \nAll players are welcome at any time during the session. Cost is £2 /person if you have your own bat and £3 if you use one of ours. \nChildren under 16 must come accompanied by an adult. \nOur pickleball kit can also be rented if you want to practise or play a game with family and friends. Just contact the bookings secretary with any questions.
URL:https://seilhall.org.uk/event/pickleball-2/2030-12-04/
LOCATION:Seil Island Hall\, Seil Hall - Main Hall\, Ellenabeich\, Isle of Seil\, PA34 4RQ\, United Kingdom
CATEGORIES:Pickleball
END:VEVENT
BEGIN:VEVENT
DTSTART;TZID=Europe/London:20301209T140000
DTEND;TZID=Europe/London:20301209T153000
DTSTAMP:20260421T052920
CREATED:20260320T213929Z
LAST-MODIFIED:20260320T213929Z
UID:10000262-1923055200-1923060600@seilhall.org.uk
SUMMARY:Scottish Country Dancing
DESCRIPTION:Join us at 2 pm – 3.30 pm every Monday for Scottish Country Dancing in the main hall. \n\n \n\n\nAll abilities welcome
URL:https://seilhall.org.uk/event/scottish-country-dancing-2/2030-12-09/
LOCATION:Seil Island Hall\, Seil Hall - Main Hall\, Ellenabeich\, Isle of Seil\, PA34 4RQ\, United Kingdom
CATEGORIES:Scottish Country Dancing
END:VEVENT
BEGIN:VEVENT
DTSTART;TZID=Europe/London:20301209T183000
DTEND;TZID=Europe/London:20301209T200000
DTSTAMP:20260421T052920
CREATED:20260320T215517Z
LAST-MODIFIED:20260320T215802Z
UID:10000915-1923071400-1923076800@seilhall.org.uk
SUMMARY:Pickleball
DESCRIPTION:We have two sessions per week. One is on Monday 18:30-21:00\, the other Wednesday 14:15-16:15. \nAll players are welcome at any time during the session. Cost is £2 /person if you have your own bat and £3 if you use one of ours. \nChildren under 16 must come accompanied by an adult. \nOur pickleball kit can also be rented if you want to practise or play a game with family and friends. Just contact the bookings secretary with any questions.
URL:https://seilhall.org.uk/event/pickleball/2030-12-09/
LOCATION:Seil Island Hall\, Seil Hall - Main Hall\, Ellenabeich\, Isle of Seil\, PA34 4RQ\, United Kingdom
CATEGORIES:Pickleball
END:VEVENT
BEGIN:VEVENT
DTSTART;TZID=Europe/London:20301209T193000
DTEND;TZID=Europe/London:20301209T210000
DTSTAMP:20260421T052920
CREATED:20260320T215040Z
LAST-MODIFIED:20260320T215933Z
UID:10000653-1923075000-1923080400@seilhall.org.uk
SUMMARY:Slow session
DESCRIPTION:The slow session is every Monday 19:30-21:00 and is run to specifically practise traditional session music slowly. Anyone is welcome to suggest tunes that we can then practice. Once a month we run a singing session. Again\, no tuition as such\, just an opportunity to practise songs with accompaniment. \nMinimum ability grade 2/3. We welcome all instruments and all ages. Cost £2 to cover hall fees.
URL:https://seilhall.org.uk/event/slow-session/2030-12-09/
LOCATION:Small Hall\, Seil Island Hall\, Seil Hall\, Ellenabeich\, Isle of Seil\, PA34 4RQ\, United Kingdom
CATEGORIES:Slow session
END:VEVENT
BEGIN:VEVENT
DTSTART;TZID=Europe/London:20301211T141500
DTEND;TZID=Europe/London:20301211T161500
DTSTAMP:20260421T052920
CREATED:20260320T215711Z
LAST-MODIFIED:20260320T215711Z
UID:10001176-1923228900-1923236100@seilhall.org.uk
SUMMARY:Pickleball
DESCRIPTION:We have two sessions per week. One is on Monday 18:30-21:00\, the other Wednesday 14:15-16:15. \nAll players are welcome at any time during the session. Cost is £2 /person if you have your own bat and £3 if you use one of ours. \nChildren under 16 must come accompanied by an adult. \nOur pickleball kit can also be rented if you want to practise or play a game with family and friends. Just contact the bookings secretary with any questions.
URL:https://seilhall.org.uk/event/pickleball-2/2030-12-11/
LOCATION:Seil Island Hall\, Seil Hall - Main Hall\, Ellenabeich\, Isle of Seil\, PA34 4RQ\, United Kingdom
CATEGORIES:Pickleball
END:VEVENT
BEGIN:VEVENT
DTSTART;TZID=Europe/London:20301216T140000
DTEND;TZID=Europe/London:20301216T153000
DTSTAMP:20260421T052920
CREATED:20260320T213929Z
LAST-MODIFIED:20260320T213929Z
UID:10000263-1923660000-1923665400@seilhall.org.uk
SUMMARY:Scottish Country Dancing
DESCRIPTION:Join us at 2 pm – 3.30 pm every Monday for Scottish Country Dancing in the main hall. \n\n \n\n\nAll abilities welcome
URL:https://seilhall.org.uk/event/scottish-country-dancing-2/2030-12-16/
LOCATION:Seil Island Hall\, Seil Hall - Main Hall\, Ellenabeich\, Isle of Seil\, PA34 4RQ\, United Kingdom
CATEGORIES:Scottish Country Dancing
END:VEVENT
BEGIN:VEVENT
DTSTART;TZID=Europe/London:20301216T183000
DTEND;TZID=Europe/London:20301216T200000
DTSTAMP:20260421T052920
CREATED:20260320T215517Z
LAST-MODIFIED:20260320T215802Z
UID:10000916-1923676200-1923681600@seilhall.org.uk
SUMMARY:Pickleball
DESCRIPTION:We have two sessions per week. One is on Monday 18:30-21:00\, the other Wednesday 14:15-16:15. \nAll players are welcome at any time during the session. Cost is £2 /person if you have your own bat and £3 if you use one of ours. \nChildren under 16 must come accompanied by an adult. \nOur pickleball kit can also be rented if you want to practise or play a game with family and friends. Just contact the bookings secretary with any questions.
URL:https://seilhall.org.uk/event/pickleball/2030-12-16/
LOCATION:Seil Island Hall\, Seil Hall - Main Hall\, Ellenabeich\, Isle of Seil\, PA34 4RQ\, United Kingdom
CATEGORIES:Pickleball
END:VEVENT
BEGIN:VEVENT
DTSTART;TZID=Europe/London:20301216T193000
DTEND;TZID=Europe/London:20301216T210000
DTSTAMP:20260421T052920
CREATED:20260320T215040Z
LAST-MODIFIED:20260320T215933Z
UID:10000654-1923679800-1923685200@seilhall.org.uk
SUMMARY:Slow session
DESCRIPTION:The slow session is every Monday 19:30-21:00 and is run to specifically practise traditional session music slowly. Anyone is welcome to suggest tunes that we can then practice. Once a month we run a singing session. Again\, no tuition as such\, just an opportunity to practise songs with accompaniment. \nMinimum ability grade 2/3. We welcome all instruments and all ages. Cost £2 to cover hall fees.
URL:https://seilhall.org.uk/event/slow-session/2030-12-16/
LOCATION:Small Hall\, Seil Island Hall\, Seil Hall\, Ellenabeich\, Isle of Seil\, PA34 4RQ\, United Kingdom
CATEGORIES:Slow session
END:VEVENT
BEGIN:VEVENT
DTSTART;TZID=Europe/London:20301217T183000
DTEND;TZID=Europe/London:20301217T203000
DTSTAMP:20260421T052920
CREATED:20260320T214422Z
LAST-MODIFIED:20260320T214422Z
UID:10000400-1923762600-1923769800@seilhall.org.uk
SUMMARY:Seil Crafting Group
DESCRIPTION:If you’d like to craft in company with neighbours and a cuppa\, come along to the Seil crafting group. \n\n\n\n\nWe meet every other Tuesday evening in the Small Hall\, all year around. Bring your own project\, whatever it might be – we’ve had mending\, embroidery\, cross-stitch\, needle-felting\, sewing\, crochet\, sketching\, weaving\, hat-making\, knitting\, calligraphy\, model-making\, painting and more. \nBring your own project\, though occasionally people offer a workshop or chance to learn something new. Small donation invited to cover the rent and heating. Find us on Facebook or contact Annie Lawson on aelawson1969@gmail.com for more details or to join the WhatApp group.
URL:https://seilhall.org.uk/event/seil-crafting-group/2030-12-17/
LOCATION:Seil Island Hall\, Seil Hall - Main Hall\, Ellenabeich\, Isle of Seil\, PA34 4RQ\, United Kingdom
CATEGORIES:Crafting group
END:VEVENT
BEGIN:VEVENT
DTSTART;TZID=Europe/London:20301218T141500
DTEND;TZID=Europe/London:20301218T161500
DTSTAMP:20260421T052920
CREATED:20260320T215711Z
LAST-MODIFIED:20260320T215711Z
UID:10001177-1923833700-1923840900@seilhall.org.uk
SUMMARY:Pickleball
DESCRIPTION:We have two sessions per week. One is on Monday 18:30-21:00\, the other Wednesday 14:15-16:15. \nAll players are welcome at any time during the session. Cost is £2 /person if you have your own bat and £3 if you use one of ours. \nChildren under 16 must come accompanied by an adult. \nOur pickleball kit can also be rented if you want to practise or play a game with family and friends. Just contact the bookings secretary with any questions.
URL:https://seilhall.org.uk/event/pickleball-2/2030-12-18/
LOCATION:Seil Island Hall\, Seil Hall - Main Hall\, Ellenabeich\, Isle of Seil\, PA34 4RQ\, United Kingdom
CATEGORIES:Pickleball
END:VEVENT
BEGIN:VEVENT
DTSTART;TZID=Europe/London:20301223T140000
DTEND;TZID=Europe/London:20301223T153000
DTSTAMP:20260421T052920
CREATED:20260320T213929Z
LAST-MODIFIED:20260320T213929Z
UID:10000264-1924264800-1924270200@seilhall.org.uk
SUMMARY:Scottish Country Dancing
DESCRIPTION:Join us at 2 pm – 3.30 pm every Monday for Scottish Country Dancing in the main hall. \n\n \n\n\nAll abilities welcome
URL:https://seilhall.org.uk/event/scottish-country-dancing-2/2030-12-23/
LOCATION:Seil Island Hall\, Seil Hall - Main Hall\, Ellenabeich\, Isle of Seil\, PA34 4RQ\, United Kingdom
CATEGORIES:Scottish Country Dancing
END:VEVENT
BEGIN:VEVENT
DTSTART;TZID=Europe/London:20301223T183000
DTEND;TZID=Europe/London:20301223T200000
DTSTAMP:20260421T052920
CREATED:20260320T215517Z
LAST-MODIFIED:20260320T215802Z
UID:10000917-1924281000-1924286400@seilhall.org.uk
SUMMARY:Pickleball
DESCRIPTION:We have two sessions per week. One is on Monday 18:30-21:00\, the other Wednesday 14:15-16:15. \nAll players are welcome at any time during the session. Cost is £2 /person if you have your own bat and £3 if you use one of ours. \nChildren under 16 must come accompanied by an adult. \nOur pickleball kit can also be rented if you want to practise or play a game with family and friends. Just contact the bookings secretary with any questions.
URL:https://seilhall.org.uk/event/pickleball/2030-12-23/
LOCATION:Seil Island Hall\, Seil Hall - Main Hall\, Ellenabeich\, Isle of Seil\, PA34 4RQ\, United Kingdom
CATEGORIES:Pickleball
END:VEVENT
BEGIN:VEVENT
DTSTART;TZID=Europe/London:20301223T193000
DTEND;TZID=Europe/London:20301223T210000
DTSTAMP:20260421T052920
CREATED:20260320T215040Z
LAST-MODIFIED:20260320T215933Z
UID:10000655-1924284600-1924290000@seilhall.org.uk
SUMMARY:Slow session
DESCRIPTION:The slow session is every Monday 19:30-21:00 and is run to specifically practise traditional session music slowly. Anyone is welcome to suggest tunes that we can then practice. Once a month we run a singing session. Again\, no tuition as such\, just an opportunity to practise songs with accompaniment. \nMinimum ability grade 2/3. We welcome all instruments and all ages. Cost £2 to cover hall fees.
URL:https://seilhall.org.uk/event/slow-session/2030-12-23/
LOCATION:Small Hall\, Seil Island Hall\, Seil Hall\, Ellenabeich\, Isle of Seil\, PA34 4RQ\, United Kingdom
CATEGORIES:Slow session
END:VEVENT
BEGIN:VEVENT
DTSTART;TZID=Europe/London:20301225T141500
DTEND;TZID=Europe/London:20301225T161500
DTSTAMP:20260421T052920
CREATED:20260320T215711Z
LAST-MODIFIED:20260320T215711Z
UID:10001178-1924438500-1924445700@seilhall.org.uk
SUMMARY:Pickleball
DESCRIPTION:We have two sessions per week. One is on Monday 18:30-21:00\, the other Wednesday 14:15-16:15. \nAll players are welcome at any time during the session. Cost is £2 /person if you have your own bat and £3 if you use one of ours. \nChildren under 16 must come accompanied by an adult. \nOur pickleball kit can also be rented if you want to practise or play a game with family and friends. Just contact the bookings secretary with any questions.
URL:https://seilhall.org.uk/event/pickleball-2/2030-12-25/
LOCATION:Seil Island Hall\, Seil Hall - Main Hall\, Ellenabeich\, Isle of Seil\, PA34 4RQ\, United Kingdom
CATEGORIES:Pickleball
END:VEVENT
BEGIN:VEVENT
DTSTART;TZID=Europe/London:20301230T140000
DTEND;TZID=Europe/London:20301230T153000
DTSTAMP:20260421T052920
CREATED:20260320T213929Z
LAST-MODIFIED:20260320T213929Z
UID:10000265-1924869600-1924875000@seilhall.org.uk
SUMMARY:Scottish Country Dancing
DESCRIPTION:Join us at 2 pm – 3.30 pm every Monday for Scottish Country Dancing in the main hall. \n\n \n\n\nAll abilities welcome
URL:https://seilhall.org.uk/event/scottish-country-dancing-2/2030-12-30/
LOCATION:Seil Island Hall\, Seil Hall - Main Hall\, Ellenabeich\, Isle of Seil\, PA34 4RQ\, United Kingdom
CATEGORIES:Scottish Country Dancing
END:VEVENT
BEGIN:VEVENT
DTSTART;TZID=Europe/London:20301230T183000
DTEND;TZID=Europe/London:20301230T200000
DTSTAMP:20260421T052920
CREATED:20260320T215517Z
LAST-MODIFIED:20260320T215802Z
UID:10000918-1924885800-1924891200@seilhall.org.uk
SUMMARY:Pickleball
DESCRIPTION:We have two sessions per week. One is on Monday 18:30-21:00\, the other Wednesday 14:15-16:15. \nAll players are welcome at any time during the session. Cost is £2 /person if you have your own bat and £3 if you use one of ours. \nChildren under 16 must come accompanied by an adult. \nOur pickleball kit can also be rented if you want to practise or play a game with family and friends. Just contact the bookings secretary with any questions.
URL:https://seilhall.org.uk/event/pickleball/2030-12-30/
LOCATION:Seil Island Hall\, Seil Hall - Main Hall\, Ellenabeich\, Isle of Seil\, PA34 4RQ\, United Kingdom
CATEGORIES:Pickleball
END:VEVENT
BEGIN:VEVENT
DTSTART;TZID=Europe/London:20301230T193000
DTEND;TZID=Europe/London:20301230T210000
DTSTAMP:20260421T052920
CREATED:20260320T215040Z
LAST-MODIFIED:20260320T215933Z
UID:10000656-1924889400-1924894800@seilhall.org.uk
SUMMARY:Slow session
DESCRIPTION:The slow session is every Monday 19:30-21:00 and is run to specifically practise traditional session music slowly. Anyone is welcome to suggest tunes that we can then practice. Once a month we run a singing session. Again\, no tuition as such\, just an opportunity to practise songs with accompaniment. \nMinimum ability grade 2/3. We welcome all instruments and all ages. Cost £2 to cover hall fees.
URL:https://seilhall.org.uk/event/slow-session/2030-12-30/
LOCATION:Small Hall\, Seil Island Hall\, Seil Hall\, Ellenabeich\, Isle of Seil\, PA34 4RQ\, United Kingdom
CATEGORIES:Slow session
END:VEVENT
BEGIN:VEVENT
DTSTART;TZID=Europe/London:20301231T183000
DTEND;TZID=Europe/London:20301231T203000
DTSTAMP:20260421T052920
CREATED:20260320T214422Z
LAST-MODIFIED:20260320T214422Z
UID:10000401-1924972200-1924979400@seilhall.org.uk
SUMMARY:Seil Crafting Group
DESCRIPTION:If you’d like to craft in company with neighbours and a cuppa\, come along to the Seil crafting group. \n\n\n\n\nWe meet every other Tuesday evening in the Small Hall\, all year around. Bring your own project\, whatever it might be – we’ve had mending\, embroidery\, cross-stitch\, needle-felting\, sewing\, crochet\, sketching\, weaving\, hat-making\, knitting\, calligraphy\, model-making\, painting and more. \nBring your own project\, though occasionally people offer a workshop or chance to learn something new. Small donation invited to cover the rent and heating. Find us on Facebook or contact Annie Lawson on aelawson1969@gmail.com for more details or to join the WhatApp group.
URL:https://seilhall.org.uk/event/seil-crafting-group/2030-12-31/
LOCATION:Seil Island Hall\, Seil Hall - Main Hall\, Ellenabeich\, Isle of Seil\, PA34 4RQ\, United Kingdom
CATEGORIES:Crafting group
END:VEVENT
BEGIN:VEVENT
DTSTART;TZID=Europe/London:20310101T141500
DTEND;TZID=Europe/London:20310101T161500
DTSTAMP:20260421T052920
CREATED:20260320T215711Z
LAST-MODIFIED:20260320T215711Z
UID:10001179-1925043300-1925050500@seilhall.org.uk
SUMMARY:Pickleball
DESCRIPTION:We have two sessions per week. One is on Monday 18:30-21:00\, the other Wednesday 14:15-16:15. \nAll players are welcome at any time during the session. Cost is £2 /person if you have your own bat and £3 if you use one of ours. \nChildren under 16 must come accompanied by an adult. \nOur pickleball kit can also be rented if you want to practise or play a game with family and friends. Just contact the bookings secretary with any questions.
URL:https://seilhall.org.uk/event/pickleball-2/2031-01-01/
LOCATION:Seil Island Hall\, Seil Hall - Main Hall\, Ellenabeich\, Isle of Seil\, PA34 4RQ\, United Kingdom
CATEGORIES:Pickleball
END:VEVENT
BEGIN:VEVENT
DTSTART;TZID=Europe/London:20310106T140000
DTEND;TZID=Europe/London:20310106T153000
DTSTAMP:20260421T052920
CREATED:20260320T213929Z
LAST-MODIFIED:20260320T213929Z
UID:10000266-1925474400-1925479800@seilhall.org.uk
SUMMARY:Scottish Country Dancing
DESCRIPTION:Join us at 2 pm – 3.30 pm every Monday for Scottish Country Dancing in the main hall. \n\n \n\n\nAll abilities welcome
URL:https://seilhall.org.uk/event/scottish-country-dancing-2/2031-01-06/
LOCATION:Seil Island Hall\, Seil Hall - Main Hall\, Ellenabeich\, Isle of Seil\, PA34 4RQ\, United Kingdom
CATEGORIES:Scottish Country Dancing
END:VEVENT
BEGIN:VEVENT
DTSTART;TZID=Europe/London:20310106T183000
DTEND;TZID=Europe/London:20310106T200000
DTSTAMP:20260421T052920
CREATED:20260320T215517Z
LAST-MODIFIED:20260320T215802Z
UID:10000919-1925490600-1925496000@seilhall.org.uk
SUMMARY:Pickleball
DESCRIPTION:We have two sessions per week. One is on Monday 18:30-21:00\, the other Wednesday 14:15-16:15. \nAll players are welcome at any time during the session. Cost is £2 /person if you have your own bat and £3 if you use one of ours. \nChildren under 16 must come accompanied by an adult. \nOur pickleball kit can also be rented if you want to practise or play a game with family and friends. Just contact the bookings secretary with any questions.
URL:https://seilhall.org.uk/event/pickleball/2031-01-06/
LOCATION:Seil Island Hall\, Seil Hall - Main Hall\, Ellenabeich\, Isle of Seil\, PA34 4RQ\, United Kingdom
CATEGORIES:Pickleball
END:VEVENT
END:VCALENDAR